{
 "currentVersion": 10.71,
 "serviceDescription": "1865_MC_Martenet_and_Bond\nData Source - Q:\\Historical Maps\\1865 MC Martenet and Bond.sid",
 "name": "Backgrounds/IMAGE_1865_MC_Martenet_and_Bond",
 "description": "1865_MC_Martenet_and_Bond\nData Source - Q:\\Historical Maps\\1865 MC Martenet and Bond.sid",
 "extent": {
  "xmin": 1152782.4022688358,
  "ymin": 426043.1175466222,
  "xmax": 1392111.2661734503,
  "ymax": 668079.6995725054,
  "spatialReference": {
   "wkid": 102685,
   "latestWkid": 2248
  }
 },
 "initialExtent": {
  "xmin": 1152782.4022688358,
  "ymin": 426043.1175466222,
  "xmax": 1392111.2661734503,
  "ymax": 668079.6995725054,
  "spatialReference": {
   "wkid": 102685,
   "latestWkid": 2248
  }
 },
 "fullExtent": {
  "xmin": 1152782.4022688358,
  "ymin": 426043.1175466222,
  "xmax": 1392111.2661734503,
  "ymax": 668079.6995725054,
  "spatialReference": {
   "wkid": 102685,
   "latestWkid": 2248
  }
 },
 "pixelSizeX": 21.93263048979238,
 "pixelSizeY": 25.81448187136127,
 "bandCount": 3,
 "pixelType": "U8",
 "minPixelSize": 0,
 "maxPixelSize": 0,
 "copyrightText": "",
 "serviceDataType": "esriImageServiceDataTypeRGB",
 "minValues": [
  36,
  33,
  25
 ],
 "maxValues": [
  255,
  237,
  189
 ],
 "meanValues": [
  164.69945852891945,
  132.43671994635284,
  84.71629317506185
 ],
 "stdvValues": [
  27.947241463743477,
  21.542636694213975,
  13.938296189670556
 ],
 "objectIdField": "",
 "fields": [],
 "capabilities": "Image,Metadata,Mensuration",
 "defaultMosaicMethod": "Center",
 "allowedMosaicMethods": "",
 "sortField": "",
 "sortValue": null,
 "mosaicOperator": "First",
 "defaultCompressionQuality": 75,
 "defaultResamplingMethod": "Bilinear",
 "maxImageHeight": 4100,
 "maxImageWidth": 15000,
 "allowRasterFunction": true,
 "rasterFunctionInfos": [
  {
   "name": "None",
   "description": "",
   "help": ""
  }
 ],
 "rasterTypeInfos": [
  {
   "name": "Raster Dataset",
   "description": "Supports all ArcGIS Raster Datasets",
   "help": ""
  }
 ],
 "mensurationCapabilities": "Basic",
 "hasHistograms": true,
 "hasColormap": false,
 "hasRasterAttributeTable": false,
 "minScale": 0,
 "maxScale": 0,
 "exportTilesAllowed": false,
 "hasMultidimensions": false,
 "supportsStatistics": false,
 "supportsAdvancedQueries": false,
 "editFieldsInfo": null,
 "ownershipBasedAccessControlForRasters": null,
 "allowComputeTiePoints": false,
 "useStandardizedQueries": true,
 "advancedQueryCapabilities": {
  "useStandardizedQueries": true,
  "supportsStatistics": false,
  "supportsOrderBy": false,
  "supportsDistinct": false,
  "supportsPagination": false
 },
 "spatialReference": {
  "wkid": 102685,
  "latestWkid": 2248
 }
}
