<?xml version="1.0" encoding="UTF-8" standalone="no"?>
<metadata xml:lang="en">
<idinfo>
<keywords>
<theme>
<themekt>ISO 19115 Topic Category</themekt>
<themekey>farming</themekey>
<themekey>geoscientificInformation</themekey>
<themekey>society</themekey>
</theme>
<theme>
<themekt>EPA GIS Keyword Thesaurus</themekt>
<themekey>Agriculture</themekey>
</theme>
<place>
<placekt>None</placekt>
<placekey>Montgomery County, MD</placekey>
</place>
</keywords>
<citation>
<citeinfo>
<origin>Maryland Geological Survey</origin>
<title>Soils of Montgomery County</title>
<pubinfo>
<publish>A Hoen &amp; Co. Lithography</publish>
<pubplace>Baltimore, MD</pubplace>
</pubinfo>
<pubdate>1916</pubdate>
<onlink>withheld</onlink>
<geoform>raster digital data</geoform>
</citeinfo>
</citation>
<descript>
<abstract>A map of Montgomery County showing the soil types of the county. Also depicts road network and settlement pattern.</abstract>
<purpose>Soils analysis and historical reference.</purpose>
</descript>
<timeperd>
<current>Publication date</current>
<timeinfo>
<sngdate>
<caldate>1916</caldate>
</sngdate>
</timeinfo>
</timeperd>
<status>
<progress>Complete</progress>
<update>None Planned</update>
</status>
<accconst>None.</accconst>
<useconst>None. Please check sources, scale, accuracy, currentness and other available information. Please confirm that you are using the most recent copy of both data and metadata. Acknowledgement of the EPA would be appreciated.</useconst>
<secinfo>
<secsys>FIPS Pub 199</secsys>
<secclass>No Confidentiality</secclass>
<sechandl>Standard Technical Controls</sechandl>
</secinfo>
<native>ESRI ArcCatalog 9.3.1.3000</native>
<spdom>
<bounding>
<westbc>-77.567404</westbc>
<eastbc>-76.843029</eastbc>
<northbc>39.381400</northbc>
<southbc>38.893421</southbc>
</bounding>
</spdom>
</idinfo>
<dataqual>
<logic>Tests for integrity have not been performed.</logic>
<complete>Features represented have not been tested for completeness</complete>
<posacc>
<horizpa>
<horizpar>Data were collected using methods that have unknown accuracy (EPA National Geospatial Data Policy [NGDP] Accuracy Tier 10). For more information, please see EPA's NGDP at http://epa.gov/geospatial/policies.html)</horizpar>
</horizpa>
</posacc>
<lineage>
<procstep>
<procdate>7/7/2009</procdate>
<procdesc>Map georeferenced to State Plane using road netowrk and county boundary. Spline rectification with 68 points (distributed across county) used; the goal was to make the alignment look reasonable at 1:12000.</procdesc>
</procstep>
</lineage>
</dataqual>
<spref>
<horizsys>
<planar>
<planci>
<plance>coordinate pair</plance>
<coordrep>
<absres>0.00001</absres>
<ordres>0.00001</ordres>
</coordrep>
<plandu>feet</plandu>
</planci>
<mapproj>
<mapprojn>Lambert Conformal Conic</mapprojn>
<lambertc>
<stdparll>38.300000</stdparll>
<stdparll>39.450000</stdparll>
<longcm>-77.000000</longcm>
<latprjo>37.666667</latprjo>
<feast>1312333.333333</feast>
<fnorth>0.000000</fnorth>
</lambertc>
</mapproj>
</planar>
<geodetic>
<horizdn>North American Datum of 1983</horizdn>
<ellips>Geodetic Reference System 1980</ellips>
<semiaxis>6378137.000000</semiaxis>
<denflat>298.257222</denflat>
</geodetic>
</horizsys>
<vertdef>
<altsys>
<altenc>Explicit elevation coordinate included with horizontal coordinates</altenc>
<altres>1.000000</altres>
</altsys>
</vertdef>
</spref>
<distinfo>
<resdesc>Static Map Images</resdesc>
<distliab>Although these data have been processed successfully on a computer system at the M-NCPPC, no warranty expressed or implied is made regarding the accuracy or utility of the data on any other system or for general or scientific purposes, nor shall the act of distribution constitute any such warranty. It is also strongly recommended that careful attention be paid to the contents of the metadata file associated with these data to evaluate data set limitations, restrictions or intended use. The M-NCPPC shall not be held liable for improper or incorrect use of the data described and/or contained herein.</distliab>
<distrib>
<cntinfo>
<cntorgp>
<cntorg>M-NCPPC</cntorg>
</cntorgp>
</cntinfo>
</distrib>
</distinfo>
<metainfo>
<metd>20090708</metd>
<metfrd>20130708</metfrd>
<metstdn>FGDC Content Standard for Digital Geospatial Metadata</metstdn>
<metstdv>FGDC-STD-001-1998</metstdv>
<metc>
<cntinfo>
<cntorgp>
<cntorg>M-NCPPC</cntorg>
</cntorgp>
</cntinfo>
</metc>
<mettc>local time</mettc>
</metainfo>
<mdDateSt>20090708</mdDateSt>
<dataIdInfo>
<envirDesc>ESRI ArcCatalog 9.3.1.3000</envirDesc>
<dataLang>
<languageCode value="en">
</languageCode>
</dataLang>
<idCitation>
<resTitle>MC Agricultural Soils (1916).bmp</resTitle>
<presForm>
<PresFormCd value="005">
</PresFormCd>
</presForm>
</idCitation>
<spatRpType>
<SpatRepTypCd value="002">
</SpatRepTypCd>
</spatRpType>
<dataExt>
<geoEle>
<GeoBndBox esriExtentType="native">
<westBL>1151942.417737</westBL>
<eastBL>1356704.608642</eastBL>
<northBL>624498.297485</northBL>
<southBL>447262.446422</southBL>
<exTypeCode>1</exTypeCode>
</GeoBndBox>
</geoEle>
</dataExt>
<geoBox esriExtentType="decdegrees">
<westBL>-77.567404</westBL>
<eastBL>-76.843029</eastBL>
<northBL>39.3814</northBL>
<southBL>38.893421</southBL>
<exTypeCode>1</exTypeCode>
</geoBox>
<idAbs>A map of Montgomery County showing the soil types of the county. Also depicts road network and settlement pattern.
Data Source: Q:\Historical Maps\MC Agricultural Soils (1916).bmp</idAbs>
<searchKeys>
<keyword>Montgomery County</keyword>
<keyword>MD</keyword>
<keyword>farming</keyword>
<keyword>geoscientificInformation</keyword>
<keyword>society</keyword>
<keyword>Agriculture</keyword>
</searchKeys>
<idPurp>1916 Soils analysis and historical reference.</idPurp>
<idCredit/>
<resConst>
<Consts>
<useLimit/>
</Consts>
</resConst>
</dataIdInfo>
<mdLang>
<languageCode value="en">
</languageCode>
</mdLang>
<mdStanName>ISO 19115 Geographic Information - Metadata</mdStanName>
<mdStanVer>DIS_ESRI1.0</mdStanVer>
<mdChar>
<CharSetCd value="004">
</CharSetCd>
</mdChar>
<mdHrLv>
<ScopeCd value="005">
</ScopeCd>
</mdHrLv>
<mdHrLvName>dataset</mdHrLvName>
<distInfo>
<distributor>
<distorTran>
<onLineSrc>
<linkage>withheld</linkage>
<protocol>Local Area Network</protocol>
<orDesc>002</orDesc>
</onLineSrc>
</distorTran>
<distorFormat>
<formatName>Raster Dataset</formatName>
</distorFormat>
</distributor>
</distInfo>
<spdoinfo>
<direct>Vector</direct>
<rastinfo>
<rasttype>Pixel</rasttype>
<rowcount>10143</rowcount>
<colcount>11706</colcount>
<vrtcount>1</vrtcount>
</rastinfo>
</spdoinfo>
<refSysInfo>
<RefSystem>
<refSysID>
<identCode>NAD_1983_StatePlane_Maryland_FIPS_1900_Feet</identCode>
</refSysID>
</RefSystem>
</refSysInfo>
</metadata>
