{
 "currentVersion": 10.71,
 "serviceDescription": "A map of Montgomery County showing the soil types of the county. Also depicts road network and settlement pattern.\nData Source: Q:\\Historical Maps\\MC Agricultural Soils (1916).bmp",
 "name": "Backgrounds/MC_Agricultural_Soils_1916",
 "description": "A map of Montgomery County showing the soil types of the county. Also depicts road network and settlement pattern.\nData Source: Q:\\Historical Maps\\MC Agricultural Soils (1916).bmp",
 "extent": {
  "xmin": 1151942.417912255,
  "ymin": 447262.4464474367,
  "xmax": 1356704.6087115959,
  "ymax": 624498.2974949526,
  "spatialReference": {
   "wkid": 102685,
   "latestWkid": 2248
  }
 },
 "initialExtent": {
  "xmin": 1151942.417912255,
  "ymin": 447262.4464474367,
  "xmax": 1356704.6087115959,
  "ymax": 624498.2974949526,
  "spatialReference": {
   "wkid": 102685,
   "latestWkid": 2248
  }
 },
 "fullExtent": {
  "xmin": 1151942.417912255,
  "ymin": 447262.4464474367,
  "xmax": 1356704.6087115959,
  "ymax": 624498.2974949526,
  "spatialReference": {
   "wkid": 102685,
   "latestWkid": 2248
  }
 },
 "pixelSizeX": 17.49207165550494,
 "pixelSizeY": 17.47371103692358,
 "bandCount": 3,
 "pixelType": "U8",
 "minPixelSize": 0,
 "maxPixelSize": 0,
 "copyrightText": "",
 "serviceDataType": "esriImageServiceDataTypeRGB",
 "minValues": [],
 "maxValues": [],
 "meanValues": [],
 "stdvValues": [],
 "objectIdField": "",
 "fields": [],
 "capabilities": "Image,Metadata,Mensuration",
 "defaultMosaicMethod": "Center",
 "allowedMosaicMethods": "",
 "sortField": "",
 "sortValue": null,
 "mosaicOperator": "First",
 "defaultCompressionQuality": 75,
 "defaultResamplingMethod": "Bilinear",
 "maxImageHeight": 4100,
 "maxImageWidth": 15000,
 "allowRasterFunction": true,
 "rasterFunctionInfos": [
  {
   "name": "None",
   "description": "",
   "help": ""
  }
 ],
 "rasterTypeInfos": [
  {
   "name": "Raster Dataset",
   "description": "Supports all ArcGIS Raster Datasets",
   "help": ""
  }
 ],
 "mensurationCapabilities": "Basic",
 "hasHistograms": false,
 "hasColormap": false,
 "hasRasterAttributeTable": false,
 "minScale": 0,
 "maxScale": 0,
 "exportTilesAllowed": false,
 "hasMultidimensions": false,
 "supportsStatistics": false,
 "supportsAdvancedQueries": false,
 "editFieldsInfo": null,
 "ownershipBasedAccessControlForRasters": null,
 "allowComputeTiePoints": false,
 "useStandardizedQueries": true,
 "advancedQueryCapabilities": {
  "useStandardizedQueries": true,
  "supportsStatistics": false,
  "supportsOrderBy": false,
  "supportsDistinct": false,
  "supportsPagination": false
 },
 "spatialReference": {
  "wkid": 102685,
  "latestWkid": 2248
 }
}
