{ "currentVersion": 11.5, "cimVersion": "3.5.0", "serviceDescription": "
Tree Canopy is defined as vegetation 8 feet tall or higher. Montgomery Planning regularly purchases LiDAR data to support various products, and the interactive tool you will see below is is one such product. Four band infrared imagery is combined with LiDAR to extract our tree canopy layers. <\/span><\/p> The 2009, 2014, and 2018 tree canopy layers used the \"QL2\" LiDAR standard, which captures only 4 samples per square meter. Starting with the department\u2019s 2020 tree canopy layers, a higher quality LiDAR standard called \"QL1\" was used. This new technology captures 8 samples per square meter. <\/span><\/p> The new QL1 technology is better able to capture smaller saplings that the QL2 technology could have have missed. QL1 also has the ability to better detect the fringes of tree canopy. Because of the higher resolution of QL1, the overall tree canopy capture for any given area is higher than it would be if it were measured by the older QL2 today. <\/span><\/p> For more information, contact: GIS Manager Information Technology & Innovation (ITI) Montgomery County Planning Department, MNCPPC T: 301-650-5620<\/span><\/span><\/p> <\/p><\/div><\/div><\/div>",
"mapName": "Map",
"description": "Tree Canopy is defined as vegetation 8 feet tall or higher. Montgomery Planning regularly purchases LiDAR data to support various products, and the interactive tool you will see below is is one such product. Four band infrared imagery is combined with LiDAR to extract our tree canopy layers. The 2009, 2014, and 2018 tree canopy layers used the \"QL2\" LiDAR standard, which captures only 4 samples per square meter. Starting with the department\u2019s 2020 tree canopy layers, a higher quality LiDAR standard called \"QL1\" was used. This new technology captures 8 samples per square meter. The new QL1 technology is better able to capture smaller saplings that the QL2 technology could have have missed. QL1 also has the ability to better detect the fringes of tree canopy. Because of the higher resolution of QL1, the overall tree canopy capture for any given area is higher than it would be if it were measured by the older QL2 today. For more information, contact: GIS Manager Information Technology & Innovation (ITI) Montgomery County Planning Department, MNCPPC T: 301-650-5620",
"copyrightText": "Information Technology & Innovation (ITI), Montgomery County Planning Department, MNCPPC\nUniversity of Vermont Spatial Lab",
"supportsDynamicLayers": true,
"layers": [
{
"id": 0,
"name": "tree_canopy_2020",
"parentLayerId": -1,
"defaultVisibility": true,
"subLayerIds": null,
"minScale": 0,
"maxScale": 0,
"type": "Feature Layer",
"geometryType": "esriGeometryPolygon",
"supportsDynamicLegends": true
}
],
"tables": [],
"spatialReference": {
"wkid": 102100,
"latestWkid": 3857,
"xyTolerance": 0.001,
"zTolerance": 0.001,
"mTolerance": 0.001,
"falseX": -20037700,
"falseY": -30241100,
"xyUnits": 10000,
"falseZ": -100000,
"zUnits": 10000,
"falseM": -100000,
"mUnits": 10000
},
"singleFusedMapCache": true,
"tileInfo": {
"rows": 256,
"cols": 256,
"dpi": 96,
"format": "PNG",
"compressionQuality": 0,
"origin": {
"x": -2.0037508342787E7,
"y": 2.0037508342787E7
},
"spatialReference": {
"wkid": 102100,
"latestWkid": 3857,
"xyTolerance": 0.001,
"zTolerance": 0.001,
"mTolerance": 0.001,
"falseX": -20037700,
"falseY": -30241100,
"xyUnits": 1.4892314192838538E8,
"falseZ": -100000,
"zUnits": 10000,
"falseM": -100000,
"mUnits": 10000
},
"lods": [
{
"level": 0,
"resolution": 156543.033928,
"scale": 5.91657527591555E8
},
{
"level": 1,
"resolution": 78271.5169639999,
"scale": 2.95828763795777E8
},
{
"level": 2,
"resolution": 39135.7584820001,
"scale": 1.47914381897889E8
},
{
"level": 3,
"resolution": 19567.8792409999,
"scale": 7.3957190948944E7
},
{
"level": 4,
"resolution": 9783.93962049996,
"scale": 3.6978595474472E7
},
{
"level": 5,
"resolution": 4891.96981024998,
"scale": 1.8489297737236E7
},
{
"level": 6,
"resolution": 2445.98490512499,
"scale": 9244648.868618
},
{
"level": 7,
"resolution": 1222.99245256249,
"scale": 4622324.434309
},
{
"level": 8,
"resolution": 611.49622628138,
"scale": 2311162.217155
},
{
"level": 9,
"resolution": 305.748113140558,
"scale": 1155581.108577
},
{
"level": 10,
"resolution": 152.874056570411,
"scale": 577790.554289
},
{
"level": 11,
"resolution": 76.4370282850732,
"scale": 288895.277144
},
{
"level": 12,
"resolution": 38.2185141425366,
"scale": 144447.638572
},
{
"level": 13,
"resolution": 19.1092570712683,
"scale": 72223.819286
},
{
"level": 14,
"resolution": 9.55462853563415,
"scale": 36111.909643
},
{
"level": 15,
"resolution": 4.77731426794937,
"scale": 18055.954822
},
{
"level": 16,
"resolution": 2.38865713397468,
"scale": 9027.977411
},
{
"level": 17,
"resolution": 1.19432856685505,
"scale": 4513.988705
},
{
"level": 18,
"resolution": 0.597164283559817,
"scale": 2256.994353
},
{
"level": 19,
"resolution": 0.298582141647617,
"scale": 1128.497176
},
{
"level": 20,
"resolution": 0.14929107082380833,
"scale": 564.248588
},
{
"level": 21,
"resolution": 0.07464553541190416,
"scale": 282.124294
},
{
"level": 22,
"resolution": 0.03732276770595208,
"scale": 141.062147
},
{
"level": 23,
"resolution": 0.01866138385297604,
"scale": 70.5310735
}
]
},
"storageInfo": {
"storageFormat": "esriMapCacheStorageModeCompactV2",
"packetSize": 128
},
"initialExtent": {
"xmin": -8640149.54547462,
"ymin": 4709123.605581035,
"xmax": -8549535.113450384,
"ymax": 4775515.252849526,
"spatialReference": {
"wkid": 102100,
"latestWkid": 3857,
"xyTolerance": 0.001,
"zTolerance": 0.001,
"mTolerance": 0.001,
"falseX": -20037700,
"falseY": -30241100,
"xyUnits": 10000,
"falseZ": -100000,
"zUnits": 10000,
"falseM": -100000,
"mUnits": 10000
}
},
"fullExtent": {
"xmin": -8630514.196377315,
"ymin": 4712185.225480109,
"xmax": -8559170.462547692,
"ymax": 4772453.632950449,
"spatialReference": {
"wkid": 102100,
"latestWkid": 3857,
"xyTolerance": 0.001,
"zTolerance": 0.001,
"mTolerance": 0.001,
"falseX": -20037700,
"falseY": -30241100,
"xyUnits": 10000,
"falseZ": -100000,
"zUnits": 10000,
"falseM": -100000,
"mUnits": 10000
}
},
"datesInUnknownTimezone": false,
"minScale": 577790.554289,
"maxScale": 564.248588,
"minLOD": 10,
"maxLOD": 20,
"units": "esriMeters",
"supportedImageFormatTypes": "PNG32,PNG24,PNG,JPG,DIB,TIFF,EMF,PS,PDF,GIF,SVG,SVGZ,BMP",
"documentInfo": {
"Title": "Map",
"Author": "",
"Comments": "",
"Subject": "",
"Category": "",
"Version": "3.3.0",
"AntialiasingMode": "Fast",
"TextAntialiasingMode": "Force",
"Keywords": "Environment,Tree Canopy,Montgomery County Planning Department,Montgomery County,MNCPPC,Maryland"
},
"supportsQueryDomains": true,
"capabilities": "Query,Map,Data",
"supportedQueryFormats": "JSON, geoJSON, PBF",
"exportTilesAllowed": false,
"referenceScale": 0.0,
"datumTransformations": [
{
"geoTransforms": [
{
"wkid": 108190,
"latestWkid": 108190,
"transformForward": true,
"name": "WGS_1984_(ITRF00)_To_NAD_1983"
}
]
},
{
"geoTransforms": [
{
"wkid": 108190,
"latestWkid": 108190,
"transformForward": false,
"name": "WGS_1984_(ITRF00)_To_NAD_1983"
}
]
},
{
"geoTransforms": [
{
"wkid": 108190,
"latestWkid": 108190,
"transformForward": true,
"name": "WGS_1984_(ITRF00)_To_NAD_1983"
}
]
},
{
"geoTransforms": [
{
"wkid": 108190,
"latestWkid": 108190,
"transformForward": false,
"name": "WGS_1984_(ITRF00)_To_NAD_1983"
}
]
}
],
"supportsDatumTransformation": true,
"floorAwareMapProperties": {
"defaultFloorFilterSettings": {"isEnabled": false}
},
"archivingInfo": {"supportsHistoricMoment": false},
"supportsClipping": true,
"supportsSpatialFilter": true,
"supportsTimeRelation": true,
"supportsQueryDataElements": true,
"mapUnits": {"uwkid": 9001},
"maxSelectionCount": 2000,
"maxRecordCount": 2000,
"maxImageHeight": 4096,
"maxImageWidth": 4096,
"supportedExtensions": "",
"serviceItemId": "cd09659612b341f5bd561b0045afeeaf"
}