View In:
ArcGIS JavaScript
ArcGIS Online Map Viewer
ArcGIS Earth
ArcMap
ArcGIS Pro
View Footprint In:
ArcGIS Online Map Viewer
Service Description: Green infrastructure base layers
Map Name: Layers
Legend
All Layers and Tables
Layers:
-
GI_Network_2015_Final_061016_webmap (1,128 scale) (0)
-
GI_Network_2015_Final_061016_webmap (2,257 scale) (1)
-
GI_Network_2015_Final_061016_webmap (4,514 scale) (2)
-
GI_Network_2015_Final_061016_webmap (9,028 scale) (3)
-
GI_Network_2015_Final_061016_webmap (18,056 scale) (4)
-
GI_Network_2015_Final_061016_webmap (36,112 scale) (5)
-
GI_Network_2015_Final_061016_webmap (72,225 scale) (6)
-
GI_Network_2015_Final_061016_webmap (144,448 scale) (7)
-
GI_Network_2015_Final_061016_webmap (288,895 scale) (8)
-
GI_Network_2015_Final_061016_webmap (577,791 scale) (9)
-
GI_Network_2015_Final_061016_webmap (1,155,581 scale) (10)
-
GI_Network_2015_Final_061016_webmap (2,311,162 scale) (11)
-
GI_Network_2015_Final_061016_webmap (4,622,324 scale) (12)
-
GI_Network_2015_Final_061016_webmap (9,244,649 scale) (13)
-
GI_Network_2015_Final_061016_webmap (18,489,298 scale) (14)
-
GI_Network_2015_Final_061016_webmap (36,978,595 scale) (15)
-
GI_Network_2015_Final_061016_webmap (73,957,191 scale) (16)
-
GI_Network_2015_Final_061016_webmap (147,914,382 scale) (17)
-
GI_Network_2015_Final_061016_webmap (295,828,764 scale) (18)
-
GI_Network_2015_Final_061016_webmap (591,657,528 scale) (19)
Description:
Copyright Text: iti
Spatial Reference:
102100
(3857)
Single Fused Map Cache: true
Tile Info:
- Height: 256
- Width: 256
- DPI: 96
-
Levels of Detail: 20
-
Level ID: 0
[ Start Tile, End Tile ]
- Resolution: 156543.03392800014
- Scale: 5.91657527591555E8
-
Level ID: 1
[ Start Tile, End Tile ]
- Resolution: 78271.51696399994
- Scale: 2.95828763795777E8
-
Level ID: 2
[ Start Tile, End Tile ]
- Resolution: 39135.75848200009
- Scale: 1.47914381897889E8
-
Level ID: 3
[ Start Tile, End Tile ]
- Resolution: 19567.87924099992
- Scale: 7.3957190948944E7
-
Level ID: 4
[ Start Tile, End Tile ]
- Resolution: 9783.93962049996
- Scale: 3.6978595474472E7
-
Level ID: 5
[ Start Tile, End Tile ]
- Resolution: 4891.96981024998
- Scale: 1.8489297737236E7
- Format: PNG
- Compression Quality: 0.0
- Origin: X: -2.0037508342787E7
Y: 2.0037508342787E7
- Spatial Reference: 102100
(3857)
Initial Extent:
XMin: -8614749.974444985
YMin: 4742856.368858789
XMax: -8600257.77474836
YMax: 4751114.087097164
Spatial Reference: 102100
(3857)
Full Extent:
XMin: -8630515.581489928
YMin: 4712121.888825739
XMax: -8559047.836048424
YMax: 4772509.440819711
Spatial Reference: 102100
(3857)
Units: esriMeters
Supported Image Format Types: PNG32,PNG24,PNG,JPG,DIB,TIFF,EMF,PS,PDF,GIF,SVG,SVGZ,BMP
Document Info:
Title: Green Infrastructure Map
Author: symborski,mukherjee
Comments: Green infrastructure base layers
Subject: Green infrastructure base layers
Category:
Keywords: green infrastructure
AntialiasingMode: Normal
TextAntialiasingMode: Force
Supports Dynamic Layers: false
MaxRecordCount: 1000
MaxImageHeight: 4096
MaxImageWidth: 4096
Supported Query Formats: JSON, geoJSON
Min Scale: 5.91657527591555E8
Max Scale: 1128.497176
Supports Datum Transformation: true
Child Resources:
Info
Supported Operations:
Export Map
Identify
QueryDomains
QueryLegends
Find
Return Updates