View In:
ArcGIS JavaScript
ArcGIS Online Map Viewer
ArcGIS Earth
ArcGIS Pro
Service Description: <div style='text-align:Left;font-size:12pt'><p style='margin:0 0 0 0;'><span><span>Land cover layer created by using MNCPPC planimetric data and USFW wetland data. Areas with no data were filled with Chesapeake Land Use Model (2020) data. Layer has three attributes. GROUND = the landcover on the ground; SURFACE = the landcover above the ground (for example Tree Cover); LANDCOVER = Surface category over Ground category if there is overlap (for example "Non-Forest Tree Cover over Grass").</span></span><span /><span><span>Categories: Barren, Grass, Forest/Non-Forest Tree Cover, Impervious Surface, Impervious Structure, Water and Wetland</span></span><span /><span><span>For more information, contact: GIS Manager Information Technology & Innovation (ITI) Montgomery County Planning Department, MNCPPC T: 301-650-5620</span></span><span /></p></div>
Map Name: Map
Legend
All Layers and Tables
Dynamic Legend
Dynamic All Layers
Layers:
Description: Land cover layer created by using MNCPPC planimetric data and USFW wetland data. Areas with no data were filled with Chesapeake Land Use Model (2020) data. Layer has three attributes. GROUND = the landcover on the ground; SURFACE = the landcover above the ground (for example Tree Cover); LANDCOVER = Surface category over Ground category if there is overlap (for example "Non-Forest Tree Cover over Grass").Categories: Barren, Grass, Forest/Non-Forest Tree Cover, Impervious Surface, Impervious Structure, Water and WetlandFor more information, contact: GIS Manager Information Technology & Innovation (ITI) Montgomery County Planning Department, MNCPPC T: 301-650-5620
Service Item Id: f9a3122c214e4f148f71eb933e42a6d7
Copyright Text: Information Technology & Innovation (ITI), Montgomery County Planning Department, MNCPPC
USFW
CBP Land Use/Land Cover Data Project
Spatial Reference:
102100
(3857)
LatestVCSWkid(0)
Single Fused Map Cache: true
Tile Info:
- Height: 256.0
- Width: 256.0
- DPI: 96.0
-
Levels of Detail: 24
-
Level ID: 1
[ Start Tile, End Tile ]
- Resolution: 78271.5169639999
- Scale: 2.95828763795777E8
-
Level ID: 2
[ Start Tile, End Tile ]
- Resolution: 39135.7584820001
- Scale: 1.47914381897889E8
-
Level ID: 3
[ Start Tile, End Tile ]
- Resolution: 19567.8792409999
- Scale: 7.3957190948944E7
-
Level ID: 4
[ Start Tile, End Tile ]
- Resolution: 9783.93962049996
- Scale: 3.6978595474472E7
-
Level ID: 5
[ Start Tile, End Tile ]
- Resolution: 4891.96981024998
- Scale: 1.8489297737236E7
- Format: PNG
- Compression Quality: 0.0
- Origin: X: -2.0037508342787E7
Y: 2.0037508342787E7
- Spatial Reference: 102100
(3857)
LatestVCSWkid(0)
Storage Info:
- Storage Format: esriMapCacheStorageModeCompactV2
- Packet Size: 128
Initial Extent:
XMin: -8634150.856296577
YMin: 4700627.547776956
XMax: -8555412.846397467
YMax: 4784063.285893135
Spatial Reference: 102100
(3857)
LatestVCSWkid(0)
Full Extent:
XMin: -8630515.943920016
YMin: 4712118.621992303
XMax: -8559047.758774025
YMax: 4772572.211677784
Spatial Reference: 102100
(3857)
LatestVCSWkid(0)
Units: esriMeters
Supported Image Format Types: PNG32,PNG24,PNG,JPG,DIB,TIFF,EMF,PS,PDF,GIF,SVG,SVGZ,BMP
Document Info:
Title: Map
Author:
Comments:
Subject:
Category:
Keywords: Environment,Land Cover,Montgomery County Planning Department,Montgomery County,MNCPPC,Maryland
AntialiasingMode: Fast
TextAntialiasingMode: Force
Supports Dynamic Layers: true
MaxRecordCount: 2000
MaxSelectionCount: 2000
MaxImageHeight: 4096
MaxImageWidth: 4096
Supported Query Formats: JSON, geoJSON, PBF
Supports Query Data Elements: true
Min Scale: 577790.554289
Max Scale: 564.248588
Min LOD: 10
Max LOD: 20
Supports Datum Transformation: true
Child Resources:
Info
Dynamic Layer
Supported Operations:
Export Map
Identify
QueryLegends
QueryDomains
Find
Return Updates