View In:
ArcGIS JavaScript
ArcGIS Online Map Viewer
ArcGIS Earth
Service Description: A Digital Terrain Model (DTM) is a 'bare earth' elevation model, unmodified from its original data source (such as lidar, ifsar, or an autocorrelated photogrammetric surface) which is free of vegetation, buildings, and other 'non ground' objects. The DTM is derived from LiDAR point clouds (QL1) and has a 1 ft resolution.For more information, contact: GIS Manager Information Technology & Innovation (ITI) Montgomery County Planning Department, MNCPPC T: 301-650-5620
Name: Elevation/countywide_dtm
Description: A Digital Terrain Model (DTM) is a 'bare earth' elevation model, unmodified from its original data source (such as lidar, ifsar, or an autocorrelated photogrammetric surface) which is free of vegetation, buildings, and other 'non ground' objects. The DTM is derived from LiDAR point clouds (QL1) and has a 1 ft resolution.For more information, contact: GIS Manager Information Technology & Innovation (ITI) Montgomery County Planning Department, MNCPPC T: 301-650-5620
Single Fused Map Cache: false
Extent:
XMin: 1162673.9035756057
YMin: 461711.203377031
XMax: 1344222.9035756057
YMax: 614681.203377031
Spatial Reference: 0
(0)
LatestVCSWkid(0)
Initial Extent:
XMin: 1162673.9035756057
YMin: 461711.203377031
XMax: 1344222.9035756057
YMax: 614681.203377031
Spatial Reference: 0
(0)
LatestVCSWkid(0)
Full Extent:
XMin: 1162673.9035756057
YMin: 461711.203377031
XMax: 1344222.9035756057
YMax: 614681.203377031
Spatial Reference: 0
(0)
LatestVCSWkid(0)
Pixel Size X: 1.0
Pixel Size Y: 1.0
Band Count: 1
Pixel Type: F32
RasterFunction Infos: {"rasterFunctionInfos": [{
"name": "None",
"description": "",
"help": ""
}]}
Mensuration Capabilities: Basic
Inspection Capabilities:
Has Histograms: true
Has Colormap: false
Has Multi Dimensions : false
Rendering Rule:
Min Scale: 0
Max Scale: 0
Copyright Text: Information Technology & Innovation (ITI), Montgomery County Planning Department, MNCPPC
Service Data Type: esriImageServiceDataTypeGeneric
Min Values: -103.22899627685547
Max Values: 884.802001953125
Mean Values: 405.6976537990261
Standard Deviation Values: 125.54266098380333
Object ID Field:
Fields:
None
Default Mosaic Method: Center
Allowed Mosaic Methods:
SortField:
SortValue: null
Mosaic Operator: First
Default Compression Quality: 75
Default Resampling Method: Bilinear
Max Record Count: null
Max Image Height: 4100
Max Image Width: 15000
Max Download Image Count: null
Max Mosaic Image Count: null
Allow Raster Function: true
Allow Copy: true
Allow Analysis: true
Allow Compute TiePoints: false
Supports Statistics: false
Supports Advanced Queries: false
Use StandardizedQueries: true
Raster Type Infos:
Name: Raster Dataset
Description: Supports all ArcGIS Raster Datasets
Help:
Has Raster Attribute Table: false
Edit Fields Info: null
Ownership Based AccessControl For Rasters: null
Child Resources:
Info
Histograms
Statistics
Key Properties
Legend
Raster Function Infos
Supported Operations:
Export Image
Identify
Measure
Compute Histograms
Compute Statistics Histograms
Get Samples
Compute Class Statistics
Query Boundary
Compute Pixel Location
Compute Angles
Validate
Project