View In:
ArcGIS JavaScript
ArcGIS Online Map Viewer
ArcGIS Earth
Service Description: Elevation/countywide_dtm_Clip
Name: Elevation/countywide_dtm_Clip
Description:
Single Fused Map Cache: false
Extent:
XMin: 1244723.1803580215
YMin: 510294.041532224
XMax: 1251568.1352010248
YMax: 517138.9935944926
Spatial Reference: 0
(0)
LatestVCSWkid(0)
Initial Extent:
XMin: 1244723.1803580215
YMin: 510294.041532224
XMax: 1251568.1352010248
YMax: 517138.9935944926
Spatial Reference: 0
(0)
LatestVCSWkid(0)
Full Extent:
XMin: 1244723.1803580215
YMin: 510294.041532224
XMax: 1251568.1352010248
YMax: 517138.9935944926
Spatial Reference: 0
(0)
LatestVCSWkid(0)
Pixel Size X: 0.9999934029223233
Pixel Size Y: 0.9999929966791271
Band Count: 1
Pixel Type: F32
RasterFunction Infos: {"rasterFunctionInfos": [{
"name": "None",
"description": "",
"help": ""
}]}
Mensuration Capabilities: Basic
Inspection Capabilities:
Has Histograms: true
Has Colormap: false
Has Multi Dimensions : false
Rendering Rule:
Min Scale: 0
Max Scale: 0
Copyright Text:
Service Data Type: esriImageServiceDataTypeGeneric
Min Values: -103.22899627685547
Max Values: 541.6589965820312
Mean Values: 373.05950089218544
Standard Deviation Values: 96.49726023055125
Object ID Field:
Fields:
None
Default Mosaic Method: Center
Allowed Mosaic Methods:
SortField:
SortValue: null
Mosaic Operator: First
Default Compression Quality: 75
Default Resampling Method: Bilinear
Max Record Count: null
Max Image Height: 4100
Max Image Width: 15000
Max Download Image Count: null
Max Mosaic Image Count: null
Allow Raster Function: true
Allow Copy: true
Allow Analysis: true
Allow Compute TiePoints: false
Supports Statistics: false
Supports Advanced Queries: false
Use StandardizedQueries: true
Raster Type Infos:
Name: Raster Dataset
Description: Supports all ArcGIS Raster Datasets
Help:
Has Raster Attribute Table: false
Edit Fields Info: null
Ownership Based AccessControl For Rasters: null
Child Resources:
Info
Histograms
Statistics
Key Properties
Legend
Raster Function Infos
Supported Operations:
Export Image
Identify
Measure
Compute Histograms
Compute Statistics Histograms
Get Samples
Compute Class Statistics
Query Boundary
Compute Pixel Location
Compute Angles
Validate
Project