View In:
ArcGIS JavaScript
ArcGIS Online Map Viewer
ArcGIS Earth
ArcGIS Pro
Service Description: <div style='text-align:Left;'><div><div><p><span>This dataset contains a combination of planimetric data (building footprints, bridges, athletic courts/non-residential pads/patios, bridges, driveways, parking lots, sidewalks, roads and transformer substations) and hard surface trails. This data was captured for use in general mapping at a scale of 1:100. Countywide data updated Spring 2020. For more information, contact: GIS Manager Information Technology & Innovation (ITI) Montgomery County Planning Department, MNCPPC T: 301-650-5620.</span></p></div></div></div>
Map Name: Map1
Legend
All Layers and Tables
Dynamic Legend
Dynamic All Layers
Layers:
Description: This dataset contains cultural features within Montgomery County. This data was captured for use in general mapping at a scale of 1:1200.
Service Item Id: b059a0006f88471486e6905bad46b3f8
Copyright Text: Information Technology & Innovation (ITI), Montgomery County Planning Department, MNCPPC
Spatial Reference:
102100
(3857)
LatestVCSWkid(0)
Single Fused Map Cache: true
Tile Info:
- Height: 256.0
- Width: 256.0
- DPI: 96.0
-
Levels of Detail: 24
-
Level ID: 1
[ Start Tile, End Tile ]
- Resolution: 78271.5169639999
- Scale: 2.95828763795777E8
-
Level ID: 2
[ Start Tile, End Tile ]
- Resolution: 39135.7584820001
- Scale: 1.47914381897889E8
-
Level ID: 3
[ Start Tile, End Tile ]
- Resolution: 19567.8792409999
- Scale: 7.3957190948944E7
-
Level ID: 4
[ Start Tile, End Tile ]
- Resolution: 9783.93962049996
- Scale: 3.6978595474472E7
-
Level ID: 5
[ Start Tile, End Tile ]
- Resolution: 4891.96981024998
- Scale: 1.8489297737236E7
- Format: PNG
- Compression Quality: 0.0
- Origin: X: -2.0037508342787E7
Y: 2.0037508342787E7
- Spatial Reference: 102100
(3857)
LatestVCSWkid(0)
Storage Info:
- Storage Format: esriMapCacheStorageModeCompactV2
- Packet Size: 128
Initial Extent:
XMin: -8593282.346786657
YMin: 4739956.378047918
XMax: -8592838.040584864
YMax: 4740431.390228053
Spatial Reference: 102100
(3857)
LatestVCSWkid(0)
Full Extent:
XMin: -8630480.569601042
YMin: 4712404.9503689455
XMax: -8560735.799931116
YMax: 4772482.095335417
Spatial Reference: 102100
(3857)
LatestVCSWkid(0)
Units: esriMeters
Supported Image Format Types: PNG32,PNG24,PNG,JPG,DIB,TIFF,EMF,PS,PDF,GIF,SVG,SVGZ,BMP
Document Info:
Title: Map1
Author:
Comments:
Subject:
Category:
Keywords: Impervious Surfaces, Planimetric, Impervious, Montgomery County Planning Department, Montgomery County, MNCPPC, Maryland
AntialiasingMode: Fast
TextAntialiasingMode: Force
Supports Dynamic Layers: true
Resampling: false
MaxRecordCount: 2000
MaxSelectionCount: 2000
MaxImageHeight: 4096
MaxImageWidth: 4096
Supported Query Formats: JSON, geoJSON, PBF
Supports Query Data Elements: true
Min Scale: 577790.554289
Max Scale: 564.248588
Min LOD: 10
Max LOD: 20
Supports Datum Transformation: true
Child Resources:
Info
Dynamic Layer
Supported Operations:
Export Map
Identify
QueryLegends
QueryDomains
Find
Return Updates