View In:
ArcGIS JavaScript
ArcGIS Online Map Viewer
ArcGIS Earth
ArcMap
View Footprint In:
ArcGIS Online Map Viewer
Service Description: 1865_MC_Martenet_and_Bond
Data Source - Q:\Historical Maps\1865 MC Martenet and Bond.sid
Name: Backgrounds/IMAGE_1865_MC_Martenet_and_Bond
Description: 1865_MC_Martenet_and_Bond
Data Source - Q:\Historical Maps\1865 MC Martenet and Bond.sid
Single Fused Map Cache: false
Extent:
XMin: 1152782.4022688358
YMin: 426043.1175466222
XMax: 1392111.2661734503
YMax: 668079.6995725054
Spatial Reference: 102685
(2248)
Initial Extent:
XMin: 1152782.4022688358
YMin: 426043.1175466222
XMax: 1392111.2661734503
YMax: 668079.6995725054
Spatial Reference: 102685
(2248)
Full Extent:
XMin: 1152782.4022688358
YMin: 426043.1175466222
XMax: 1392111.2661734503
YMax: 668079.6995725054
Spatial Reference: 102685
(2248)
Pixel Size X: 21.93263048979238
Pixel Size Y: 25.81448187136127
Band Count: 3
Pixel Type: U8
RasterFunction Infos: {"rasterFunctionInfos": [{
"name": "None",
"description": "",
"help": ""
}]}
Mensuration Capabilities: Basic
Has Histograms: true
Has Colormap: false
Has Multi Dimensions : false
Rendering Rule:
Min Scale: 0
Max Scale: 0
Copyright Text:
Service Data Type: esriImageServiceDataTypeRGB
Min Values: 36, 33, 25
Max Values: 255, 237, 189
Mean Values: 164.69945852891945, 132.43671994635284, 84.71629317506185
Standard Deviation Values: 27.947241463743477, 21.542636694213975, 13.938296189670556
Object ID Field:
Fields:
None
Default Mosaic Method: Center
Allowed Mosaic Methods:
SortField:
SortValue: null
Mosaic Operator: First
Default Compression Quality: 75
Default Resampling Method: Bilinear
Max Record Count: null
Max Image Height: 4100
Max Image Width: 15000
Max Download Image Count: null
Max Mosaic Image Count: null
Allow Raster Function: true
Allow Compute TiePoints: false
Supports Statistics: false
Supports Advanced Queries: false
Use StandardizedQueries: true
Raster Type Infos:
Name: Raster Dataset
Description: Supports all ArcGIS Raster Datasets
Help:
Has Raster Attribute Table: false
Edit Fields Info: null
Ownership Based AccessControl For Rasters: null
Child Resources:
Info
Histograms
Key Properties
Legend
MultiDimensionalInfo
rasterFunctionInfos
Supported Operations:
Export Image
Identify
Measure
Compute Histograms
Compute Statistics Histograms
Get Samples
Compute Class Statistics
Query Boundary
Compute Pixel Location