View In:
ArcGIS JavaScript
ArcGIS Online Map Viewer
ArcGIS Earth
ArcMap
View Footprint In:
ArcGIS Online Map Viewer
Service Description: A map of Montgomery County showing the soil types of the county. Also depicts road network and settlement pattern.
Data Source: Q:\Historical Maps\MC Agricultural Soils (1916).bmp
Name: Backgrounds/MC_Agricultural_Soils_1916
Description: A map of Montgomery County showing the soil types of the county. Also depicts road network and settlement pattern.
Data Source: Q:\Historical Maps\MC Agricultural Soils (1916).bmp
Single Fused Map Cache: false
Extent:
XMin: 1151942.417912255
YMin: 447262.4464474367
XMax: 1356704.6087115959
YMax: 624498.2974949526
Spatial Reference: 102685
(2248)
Initial Extent:
XMin: 1151942.417912255
YMin: 447262.4464474367
XMax: 1356704.6087115959
YMax: 624498.2974949526
Spatial Reference: 102685
(2248)
Full Extent:
XMin: 1151942.417912255
YMin: 447262.4464474367
XMax: 1356704.6087115959
YMax: 624498.2974949526
Spatial Reference: 102685
(2248)
Pixel Size X: 17.49207165550494
Pixel Size Y: 17.47371103692358
Band Count: 3
Pixel Type: U8
RasterFunction Infos: {"rasterFunctionInfos": [{
"name": "None",
"description": "",
"help": ""
}]}
Mensuration Capabilities: Basic
Has Histograms: false
Has Colormap: false
Has Multi Dimensions : false
Rendering Rule:
Min Scale: 0
Max Scale: 0
Copyright Text:
Service Data Type: esriImageServiceDataTypeRGB
Min Values: N/A
Max Values: N/A
Mean Values: N/A
Standard Deviation Values: N/A
Object ID Field:
Fields:
None
Default Mosaic Method: Center
Allowed Mosaic Methods:
SortField:
SortValue: null
Mosaic Operator: First
Default Compression Quality: 75
Default Resampling Method: Bilinear
Max Record Count: null
Max Image Height: 4100
Max Image Width: 15000
Max Download Image Count: null
Max Mosaic Image Count: null
Allow Raster Function: true
Allow Compute TiePoints: false
Supports Statistics: false
Supports Advanced Queries: false
Use StandardizedQueries: true
Raster Type Infos:
Name: Raster Dataset
Description: Supports all ArcGIS Raster Datasets
Help:
Has Raster Attribute Table: false
Edit Fields Info: null
Ownership Based AccessControl For Rasters: null
Child Resources:
Info
Key Properties
Legend
MultiDimensionalInfo
rasterFunctionInfos
Supported Operations:
Export Image
Identify
Measure
Compute Histograms
Compute Statistics Histograms
Get Samples
Compute Class Statistics
Query Boundary
Compute Pixel Location